BEGIN:VCALENDAR
VERSION:2.0
PRODID:-//Randerath - ECPv6.15.20//NONSGML v1.0//EN
CALSCALE:GREGORIAN
METHOD:PUBLISH
X-WR-CALNAME:Randerath
X-ORIGINAL-URL:https://randerath.org
X-WR-CALDESC:Veranstaltungen für Randerath
REFRESH-INTERVAL;VALUE=DURATION:PT1H
X-Robots-Tag:noindex
X-PUBLISHED-TTL:PT1H
BEGIN:VTIMEZONE
TZID:Europe/Berlin
BEGIN:DAYLIGHT
TZOFFSETFROM:+0100
TZOFFSETTO:+0200
TZNAME:CEST
DTSTART:20250330T010000
END:DAYLIGHT
BEGIN:STANDARD
TZOFFSETFROM:+0200
TZOFFSETTO:+0100
TZNAME:CET
DTSTART:20251026T010000
END:STANDARD
BEGIN:DAYLIGHT
TZOFFSETFROM:+0100
TZOFFSETTO:+0200
TZNAME:CEST
DTSTART:20260329T010000
END:DAYLIGHT
BEGIN:STANDARD
TZOFFSETFROM:+0200
TZOFFSETTO:+0100
TZNAME:CET
DTSTART:20261025T010000
END:STANDARD
BEGIN:DAYLIGHT
TZOFFSETFROM:+0100
TZOFFSETTO:+0200
TZNAME:CEST
DTSTART:20270328T010000
END:DAYLIGHT
BEGIN:STANDARD
TZOFFSETFROM:+0200
TZOFFSETTO:+0100
TZNAME:CET
DTSTART:20271031T010000
END:STANDARD
END:VTIMEZONE
BEGIN:VEVENT
DTSTART;VALUE=DATE:20260426
DTEND;VALUE=DATE:20260427
DTSTAMP:20260425T162519
CREATED:20260205T082448Z
LAST-MODIFIED:20260205T082448Z
UID:343-1777161600-1777247999@randerath.org
SUMMARY:Uetterath Vogelschuss
DESCRIPTION:
URL:https://randerath.org/event/uetterath-vogelschuss/
LOCATION:Bischof Hemmerle Haus
END:VEVENT
BEGIN:VEVENT
DTSTART;TZID=Europe/Berlin:20260430T163000
DTEND;TZID=Europe/Berlin:20260430T220000
DTSTAMP:20260425T162519
CREATED:20260103T122713Z
LAST-MODIFIED:20260103T122713Z
UID:325-1777566600-1777586400@randerath.org
SUMMARY:Maibaum aufstellen Randerath
DESCRIPTION:
URL:https://randerath.org/event/maibaum-aufstellen-randerath/
LOCATION:Kath. Kirche Randerath
END:VEVENT
BEGIN:VEVENT
DTSTART;TZID=Europe/Berlin:20260504T080000
DTEND;TZID=Europe/Berlin:20260505T170000
DTSTAMP:20260425T162519
CREATED:20251201T080027Z
LAST-MODIFIED:20251201T080027Z
UID:270-1777881600-1778000400@randerath.org
SUMMARY:Sommerfest MV Horst
DESCRIPTION:
URL:https://randerath.org/event/sommerfest-mv-horst/
END:VEVENT
BEGIN:VEVENT
DTSTART;VALUE=DATE:20260516
DTEND;VALUE=DATE:20260517
DTSTAMP:20260425T162519
CREATED:20251203T092741Z
LAST-MODIFIED:20251203T092741Z
UID:292-1778889600-1778975999@randerath.org
SUMMARY:RaPo Family Day
DESCRIPTION:
URL:https://randerath.org/event/rapo-family-day/
LOCATION:Wurmtalstadion
END:VEVENT
BEGIN:VEVENT
DTSTART;VALUE=DATE:20260619
DTEND;VALUE=DATE:20260623
DTSTAMP:20260425T162519
CREATED:20260205T082547Z
LAST-MODIFIED:20260205T082547Z
UID:345-1781827200-1782172799@randerath.org
SUMMARY:Uetterath Kirmes
DESCRIPTION:
URL:https://randerath.org/event/uetterath-kirmes/
END:VEVENT
BEGIN:VEVENT
DTSTART;TZID=Europe/Berlin:20260627T150000
DTEND;TZID=Europe/Berlin:20260627T220000
DTSTAMP:20260425T162519
CREATED:20260416T111038Z
LAST-MODIFIED:20260416T111038Z
UID:374-1782572400-1782597600@randerath.org
SUMMARY:Sommerfest der Schützen
DESCRIPTION:
URL:https://randerath.org/event/sommerfest-der-schuetzen/
LOCATION:kath. Pfarrheim Randerath\, Feldstr. 33\, Heinsberg-Randerath\, 52525\, Germany
END:VEVENT
BEGIN:VEVENT
DTSTART;VALUE=DATE:20260718
DTEND;VALUE=DATE:20260720
DTSTAMP:20260425T162519
CREATED:20260205T082642Z
LAST-MODIFIED:20260205T082642Z
UID:347-1784332800-1784505599@randerath.org
SUMMARY:Sommernachtsfest Berg
DESCRIPTION:
URL:https://randerath.org/event/sommernachtsfest-berg/
END:VEVENT
BEGIN:VEVENT
DTSTART;VALUE=DATE:20260829
DTEND;VALUE=DATE:20260830
DTSTAMP:20260425T162519
CREATED:20251203T092907Z
LAST-MODIFIED:20260103T121908Z
UID:296-1787961600-1788047999@randerath.org
SUMMARY:Rapolympia
DESCRIPTION:
URL:https://randerath.org/event/rapolympia/
LOCATION:Wurmtalstadion
END:VEVENT
BEGIN:VEVENT
DTSTART;VALUE=DATE:20260919
DTEND;VALUE=DATE:20260920
DTSTAMP:20260425T162519
CREATED:20260205T082728Z
LAST-MODIFIED:20260205T082728Z
UID:349-1789776000-1789862399@randerath.org
SUMMARY:Weinfest Uetterath
DESCRIPTION:
URL:https://randerath.org/event/weinfest-uetterath/
LOCATION:Bischof Hemmerle Haus
END:VEVENT
BEGIN:VEVENT
DTSTART;TZID=Europe/Berlin:20261010T183000
DTEND;TZID=Europe/Berlin:20261010T210000
DTSTAMP:20260425T162519
CREATED:20260312T080212Z
LAST-MODIFIED:20260312T080212Z
UID:354-1791657000-1791666000@randerath.org
SUMMARY:Martinszug Uetterath
DESCRIPTION:
URL:https://randerath.org/event/martinszug-uetterath/
END:VEVENT
BEGIN:VEVENT
DTSTART;TZID=Europe/Berlin:20261110T180000
DTEND;TZID=Europe/Berlin:20261110T210000
DTSTAMP:20260425T162519
CREATED:20251201T143434Z
LAST-MODIFIED:20251201T143434Z
UID:281-1794333600-1794344400@randerath.org
SUMMARY:Martinszug
DESCRIPTION:
URL:https://randerath.org/event/martinszug/
LOCATION:Beginn: Martin-Jansen-Straße
END:VEVENT
BEGIN:VEVENT
DTSTART;TZID=Europe/Berlin:20261115T103000
DTEND;TZID=Europe/Berlin:20261115T113000
DTSTAMP:20260425T162519
CREATED:20260312T080626Z
LAST-MODIFIED:20260312T080626Z
UID:357-1794738600-1794742200@randerath.org
SUMMARY:Volkstrauertag Uetterath
DESCRIPTION:
URL:https://randerath.org/event/volkstrauertag-uetterath/
END:VEVENT
BEGIN:VEVENT
DTSTART;TZID=Europe/Berlin:20261115T111500
DTEND;TZID=Europe/Berlin:20261115T113000
DTSTAMP:20260425T162519
CREATED:20260103T122244Z
LAST-MODIFIED:20260103T122307Z
UID:317-1794741300-1794742200@randerath.org
SUMMARY:Volkstrauertag Kundgebung Randerath
DESCRIPTION:
URL:https://randerath.org/event/volkstrauertag-kundgebung-randerath/
LOCATION:Marktplatz Randerath
END:VEVENT
BEGIN:VEVENT
DTSTART;TZID=Europe/Berlin:20261115T120000
DTEND;TZID=Europe/Berlin:20261115T123000
DTSTAMP:20260425T162519
CREATED:20260103T122539Z
LAST-MODIFIED:20260103T122539Z
UID:321-1794744000-1794745800@randerath.org
SUMMARY:Volkstrauertag Kundgebung Himmerich
DESCRIPTION:
URL:https://randerath.org/event/volkstrauertag-kundgebung-himmerich/
LOCATION:Himmerich Ehrenmal
END:VEVENT
BEGIN:VEVENT
DTSTART;TZID=Europe/Berlin:20261205T190000
DTEND;TZID=Europe/Berlin:20261205T210000
DTSTAMP:20260425T162519
CREATED:20251201T080328Z
LAST-MODIFIED:20251201T080328Z
UID:274-1796497200-1796504400@randerath.org
SUMMARY:Adventskonzert Randerath
DESCRIPTION:
URL:https://randerath.org/event/adventskonzert-randerath-2/
LOCATION:Kath. Kirche Randerath
END:VEVENT
BEGIN:VEVENT
DTSTART;TZID=Europe/Berlin:20261212T080000
DTEND;TZID=Europe/Berlin:20261212T170000
DTSTAMP:20260425T162519
CREATED:20260312T080732Z
LAST-MODIFIED:20260312T080732Z
UID:360-1797062400-1797094800@randerath.org
SUMMARY:Adventskonzert Uetterath
DESCRIPTION:
URL:https://randerath.org/event/adventskonzert-uetterath/
LOCATION:Kath. Kirche Uetterath
END:VEVENT
BEGIN:VEVENT
DTSTART;TZID=Europe/Berlin:20261220T080000
DTEND;TZID=Europe/Berlin:20261220T170000
DTSTAMP:20260425T162519
CREATED:20260312T080843Z
LAST-MODIFIED:20260312T080843Z
UID:362-1797753600-1797786000@randerath.org
SUMMARY:musikalische Messe zum 4. Advent
DESCRIPTION:
URL:https://randerath.org/event/musikalische-messe-zum-4-advent/
LOCATION:Kath. Kirche Uetterath
END:VEVENT
END:VCALENDAR