BEGIN:VCALENDAR
VERSION:2.0
PRODID:-//Randerath - ECPv6.15.20//NONSGML v1.0//EN
CALSCALE:GREGORIAN
METHOD:PUBLISH
X-WR-CALNAME:Randerath
X-ORIGINAL-URL:https://randerath.org
X-WR-CALDESC:Veranstaltungen für Randerath
REFRESH-INTERVAL;VALUE=DURATION:PT1H
X-Robots-Tag:noindex
X-PUBLISHED-TTL:PT1H
BEGIN:VTIMEZONE
TZID:Europe/Berlin
BEGIN:DAYLIGHT
TZOFFSETFROM:+0100
TZOFFSETTO:+0200
TZNAME:CEST
DTSTART:20250330T010000
END:DAYLIGHT
BEGIN:STANDARD
TZOFFSETFROM:+0200
TZOFFSETTO:+0100
TZNAME:CET
DTSTART:20251026T010000
END:STANDARD
BEGIN:DAYLIGHT
TZOFFSETFROM:+0100
TZOFFSETTO:+0200
TZNAME:CEST
DTSTART:20260329T010000
END:DAYLIGHT
BEGIN:STANDARD
TZOFFSETFROM:+0200
TZOFFSETTO:+0100
TZNAME:CET
DTSTART:20261025T010000
END:STANDARD
BEGIN:DAYLIGHT
TZOFFSETFROM:+0100
TZOFFSETTO:+0200
TZNAME:CEST
DTSTART:20270328T010000
END:DAYLIGHT
BEGIN:STANDARD
TZOFFSETFROM:+0200
TZOFFSETTO:+0100
TZNAME:CET
DTSTART:20271031T010000
END:STANDARD
END:VTIMEZONE
BEGIN:VEVENT
DTSTART;TZID=Europe/Berlin:20261115T111500
DTEND;TZID=Europe/Berlin:20261115T113000
DTSTAMP:20260425T174342
CREATED:20260103T122244Z
LAST-MODIFIED:20260103T122307Z
UID:317-1794741300-1794742200@randerath.org
SUMMARY:Volkstrauertag Kundgebung Randerath
DESCRIPTION:
URL:https://randerath.org/event/volkstrauertag-kundgebung-randerath/
LOCATION:Marktplatz Randerath
END:VEVENT
BEGIN:VEVENT
DTSTART;TZID=Europe/Berlin:20261115T120000
DTEND;TZID=Europe/Berlin:20261115T123000
DTSTAMP:20260425T174342
CREATED:20260103T122539Z
LAST-MODIFIED:20260103T122539Z
UID:321-1794744000-1794745800@randerath.org
SUMMARY:Volkstrauertag Kundgebung Himmerich
DESCRIPTION:
URL:https://randerath.org/event/volkstrauertag-kundgebung-himmerich/
LOCATION:Himmerich Ehrenmal
END:VEVENT
BEGIN:VEVENT
DTSTART;TZID=Europe/Berlin:20261205T190000
DTEND;TZID=Europe/Berlin:20261205T210000
DTSTAMP:20260425T174342
CREATED:20251201T080328Z
LAST-MODIFIED:20251201T080328Z
UID:274-1796497200-1796504400@randerath.org
SUMMARY:Adventskonzert Randerath
DESCRIPTION:
URL:https://randerath.org/event/adventskonzert-randerath-2/
LOCATION:Kath. Kirche Randerath
END:VEVENT
BEGIN:VEVENT
DTSTART;TZID=Europe/Berlin:20261212T080000
DTEND;TZID=Europe/Berlin:20261212T170000
DTSTAMP:20260425T174342
CREATED:20260312T080732Z
LAST-MODIFIED:20260312T080732Z
UID:360-1797062400-1797094800@randerath.org
SUMMARY:Adventskonzert Uetterath
DESCRIPTION:
URL:https://randerath.org/event/adventskonzert-uetterath/
LOCATION:Kath. Kirche Uetterath
END:VEVENT
BEGIN:VEVENT
DTSTART;TZID=Europe/Berlin:20261220T080000
DTEND;TZID=Europe/Berlin:20261220T170000
DTSTAMP:20260425T174342
CREATED:20260312T080843Z
LAST-MODIFIED:20260312T080843Z
UID:362-1797753600-1797786000@randerath.org
SUMMARY:musikalische Messe zum 4. Advent
DESCRIPTION:
URL:https://randerath.org/event/musikalische-messe-zum-4-advent/
LOCATION:Kath. Kirche Uetterath
END:VEVENT
END:VCALENDAR