BEGIN:VCALENDAR
VERSION:2.0
PRODID:-//Randerath - ECPv6.15.20//NONSGML v1.0//EN
CALSCALE:GREGORIAN
METHOD:PUBLISH
X-ORIGINAL-URL:https://randerath.org
X-WR-CALDESC:Veranstaltungen für Randerath
REFRESH-INTERVAL;VALUE=DURATION:PT1H
X-Robots-Tag:noindex
X-PUBLISHED-TTL:PT1H
BEGIN:VTIMEZONE
TZID:Europe/Berlin
BEGIN:DAYLIGHT
TZOFFSETFROM:+0100
TZOFFSETTO:+0200
TZNAME:CEST
DTSTART:20250330T010000
END:DAYLIGHT
BEGIN:STANDARD
TZOFFSETFROM:+0200
TZOFFSETTO:+0100
TZNAME:CET
DTSTART:20251026T010000
END:STANDARD
BEGIN:DAYLIGHT
TZOFFSETFROM:+0100
TZOFFSETTO:+0200
TZNAME:CEST
DTSTART:20260329T010000
END:DAYLIGHT
BEGIN:STANDARD
TZOFFSETFROM:+0200
TZOFFSETTO:+0100
TZNAME:CET
DTSTART:20261025T010000
END:STANDARD
BEGIN:DAYLIGHT
TZOFFSETFROM:+0100
TZOFFSETTO:+0200
TZNAME:CEST
DTSTART:20270328T010000
END:DAYLIGHT
BEGIN:STANDARD
TZOFFSETFROM:+0200
TZOFFSETTO:+0100
TZNAME:CET
DTSTART:20271031T010000
END:STANDARD
END:VTIMEZONE
BEGIN:VEVENT
DTSTART;TZID=Europe/Berlin:20260103T200000
DTEND;TZID=Europe/Berlin:20260103T233000
DTSTAMP:20260425T215559
CREATED:20260103T123143Z
LAST-MODIFIED:20260103T123143Z
UID:327-1767470400-1767483000@randerath.org
SUMMARY:Feuerwehrball Uetterath
DESCRIPTION:
URL:https://randerath.org/event/feuerwehrball-uetterath/
LOCATION:Bischof Hemmerle Haus
END:VEVENT
BEGIN:VEVENT
DTSTART;TZID=Europe/Berlin:20260118T103300
DTEND;TZID=Europe/Berlin:20260118T103300
DTSTAMP:20260425T215559
CREATED:20251130T111550Z
LAST-MODIFIED:20251130T200405Z
UID:235-1768732380-1768732380@randerath.org
SUMMARY:Karnevalistischer Frühschoppen
DESCRIPTION:Karnevalistischer Frühschoppen  \nBeginn: 10.33 Uhr – Einlass ab 10.00 Uhr
URL:https://randerath.org/event/karnevalistischer-fruehschoppen/
LOCATION:Turnhalle der Grundschule Randerath\, Hermannstraße 21a\, Heinsberg-Randerath\, NRW\, 52525\, Germany
ORGANIZER;CN="KG Grasb%C3%BCrger Randerath-Himmerich":MAILTO:geschaeftsfuehrer@kg-grasbuerger.de
END:VEVENT
BEGIN:VEVENT
DTSTART;TZID=Europe/Berlin:20260123T191100
DTEND;TZID=Europe/Berlin:20260123T191100
DTSTAMP:20260425T215559
CREATED:20251130T194744Z
LAST-MODIFIED:20251130T200436Z
UID:242-1769195460-1769195460@randerath.org
SUMMARY:Frauensitzung KG Randerath
DESCRIPTION:Beginn: 19.11 Uhr – Einlass ab 18.00 Uhr
URL:https://randerath.org/event/frauensitzung-kg-randerath/
LOCATION:Turnhalle der Grundschule Randerath\, Hermannstraße 21a\, Heinsberg-Randerath\, NRW\, 52525\, Germany
END:VEVENT
BEGIN:VEVENT
DTSTART;TZID=Europe/Berlin:20260131T183300
DTEND;TZID=Europe/Berlin:20260131T183300
DTSTAMP:20260425T215559
CREATED:20251130T200541Z
LAST-MODIFIED:20251130T203513Z
UID:246-1769884380-1769884380@randerath.org
SUMMARY:Große Kostümsitzung GK Grasbürger
DESCRIPTION:Große Kostümsitzung mit vielen einheimischen Akteuren und einigen tollen Überraschungen \nBeginn: 18.33 Uhr – Einlass ab 17.45 Uhr
URL:https://randerath.org/event/grosse-kostuemsitzung-gk-grasbuerger/
END:VEVENT
END:VCALENDAR