BEGIN:VCALENDAR
VERSION:2.0
PRODID:-//Randerath - ECPv6.15.20//NONSGML v1.0//EN
CALSCALE:GREGORIAN
METHOD:PUBLISH
X-WR-CALNAME:Randerath
X-ORIGINAL-URL:https://randerath.org
X-WR-CALDESC:Veranstaltungen für Randerath
REFRESH-INTERVAL;VALUE=DURATION:PT1H
X-Robots-Tag:noindex
X-PUBLISHED-TTL:PT1H
BEGIN:VTIMEZONE
TZID:Europe/Berlin
BEGIN:DAYLIGHT
TZOFFSETFROM:+0100
TZOFFSETTO:+0200
TZNAME:CEST
DTSTART:20250330T010000
END:DAYLIGHT
BEGIN:STANDARD
TZOFFSETFROM:+0200
TZOFFSETTO:+0100
TZNAME:CET
DTSTART:20251026T010000
END:STANDARD
BEGIN:DAYLIGHT
TZOFFSETFROM:+0100
TZOFFSETTO:+0200
TZNAME:CEST
DTSTART:20260329T010000
END:DAYLIGHT
BEGIN:STANDARD
TZOFFSETFROM:+0200
TZOFFSETTO:+0100
TZNAME:CET
DTSTART:20261025T010000
END:STANDARD
BEGIN:DAYLIGHT
TZOFFSETFROM:+0100
TZOFFSETTO:+0200
TZNAME:CEST
DTSTART:20270328T010000
END:DAYLIGHT
BEGIN:STANDARD
TZOFFSETFROM:+0200
TZOFFSETTO:+0100
TZNAME:CET
DTSTART:20271031T010000
END:STANDARD
END:VTIMEZONE
BEGIN:VEVENT
DTSTART;TZID=Europe/Berlin:20260201T141100
DTEND;TZID=Europe/Berlin:20260201T141100
DTSTAMP:20260425T201826
CREATED:20251130T201738Z
LAST-MODIFIED:20251130T203531Z
UID:248-1769955060-1769955060@randerath.org
SUMMARY:Kindersitzung - KG Grasbürger
DESCRIPTION:Kindersitzung – Der Grasbürger-Nachwuchs auf der Bühne \nBeginn: 14.11 Uhr – Einlass ab 13.30 Uhr
URL:https://randerath.org/event/kindersitzung-kg-grasbuerger/
LOCATION:Turnhalle der Grundschule Randerath\, Hermannstraße 21a\, Heinsberg-Randerath\, NRW\, 52525\, Germany
ORGANIZER;CN="KG Grasb%C3%BCrger Randerath-Himmerich":MAILTO:geschaeftsfuehrer@kg-grasbuerger.de
END:VEVENT
BEGIN:VEVENT
DTSTART;TZID=Europe/Berlin:20260206T193000
DTEND;TZID=Europe/Berlin:20260206T233000
DTSTAMP:20260425T201826
CREATED:20260205T081951Z
LAST-MODIFIED:20260205T081951Z
UID:339-1770406200-1770420600@randerath.org
SUMMARY:Uetterath Frauensitzung
DESCRIPTION:
URL:https://randerath.org/event/uetterath-frauensitzung/
LOCATION:Bischof Hemmerle Haus
END:VEVENT
BEGIN:VEVENT
DTSTART;TZID=Europe/Berlin:20260207T183000
DTEND;TZID=Europe/Berlin:20260207T233000
DTSTAMP:20260425T201826
CREATED:20260205T082058Z
LAST-MODIFIED:20260205T082058Z
UID:341-1770489000-1770507000@randerath.org
SUMMARY:Uetterath Karnevalssitzung
DESCRIPTION:
URL:https://randerath.org/event/uetterath-karnevalssitzung/
LOCATION:Bischof Hemmerle Haus
END:VEVENT
BEGIN:VEVENT
DTSTART;TZID=Europe/Berlin:20260212T140000
DTEND;TZID=Europe/Berlin:20260212T140000
DTSTAMP:20260425T201826
CREATED:20251130T203318Z
LAST-MODIFIED:20260103T121752Z
UID:250-1770904800-1770904800@randerath.org
SUMMARY:Altweibertreffen - KG Grasbürger
DESCRIPTION:Altweibertreffen \nIn der Vorhalle der Turnhalle \nBeginn: 14.00 Uhr
URL:https://randerath.org/event/altweibertreffen-kg-grasbuerger/
LOCATION:Grundschule Hermannsstraße\, Hermannsstraße 21a\, Heinsberg-Randerath\, NRW\, 52525\, Germany
ORGANIZER;CN="KG Grasb%C3%BCrger Randerath-Himmerich":MAILTO:geschaeftsfuehrer@kg-grasbuerger.de
END:VEVENT
BEGIN:VEVENT
DTSTART;TZID=Europe/Berlin:20260215T141100
DTEND;TZID=Europe/Berlin:20260215T141100
DTSTAMP:20260425T201826
CREATED:20251130T203414Z
LAST-MODIFIED:20260103T121521Z
UID:252-1771164660-1771164660@randerath.org
SUMMARY:Tulpensonntagszug - KG Grasbürger
DESCRIPTION:Großer Tulpensonntagszug – Der Höhepunkt der Session für die Grasbürger \nBeginn: 14.11 Uhr \nIm Anschließender Afterzoch-Party in der Halle​
URL:https://randerath.org/event/tulpensonntagszug-kg-grasbuerger/
ORGANIZER;CN="KG Grasb%C3%BCrger Randerath-Himmerich":MAILTO:geschaeftsfuehrer@kg-grasbuerger.de
END:VEVENT
END:VCALENDAR