BEGIN:VCALENDAR
VERSION:2.0
PRODID:-//Randerath - ECPv6.15.20//NONSGML v1.0//EN
CALSCALE:GREGORIAN
METHOD:PUBLISH
X-WR-CALNAME:Randerath
X-ORIGINAL-URL:https://randerath.org
X-WR-CALDESC:Veranstaltungen für Randerath
REFRESH-INTERVAL;VALUE=DURATION:PT1H
X-Robots-Tag:noindex
X-PUBLISHED-TTL:PT1H
BEGIN:VTIMEZONE
TZID:Europe/Berlin
BEGIN:DAYLIGHT
TZOFFSETFROM:+0100
TZOFFSETTO:+0200
TZNAME:CEST
DTSTART:20250330T010000
END:DAYLIGHT
BEGIN:STANDARD
TZOFFSETFROM:+0200
TZOFFSETTO:+0100
TZNAME:CET
DTSTART:20251026T010000
END:STANDARD
BEGIN:DAYLIGHT
TZOFFSETFROM:+0100
TZOFFSETTO:+0200
TZNAME:CEST
DTSTART:20260329T010000
END:DAYLIGHT
BEGIN:STANDARD
TZOFFSETFROM:+0200
TZOFFSETTO:+0100
TZNAME:CET
DTSTART:20261025T010000
END:STANDARD
BEGIN:DAYLIGHT
TZOFFSETFROM:+0100
TZOFFSETTO:+0200
TZNAME:CEST
DTSTART:20270328T010000
END:DAYLIGHT
BEGIN:STANDARD
TZOFFSETFROM:+0200
TZOFFSETTO:+0100
TZNAME:CET
DTSTART:20271031T010000
END:STANDARD
END:VTIMEZONE
BEGIN:VEVENT
DTSTART;VALUE=DATE:20260426
DTEND;VALUE=DATE:20260427
DTSTAMP:20260425T174001
CREATED:20260205T082448Z
LAST-MODIFIED:20260205T082448Z
UID:343-1777161600-1777247999@randerath.org
SUMMARY:Uetterath Vogelschuss
DESCRIPTION:
URL:https://randerath.org/event/uetterath-vogelschuss/
LOCATION:Bischof Hemmerle Haus
END:VEVENT
BEGIN:VEVENT
DTSTART;TZID=Europe/Berlin:20260430T163000
DTEND;TZID=Europe/Berlin:20260430T220000
DTSTAMP:20260425T174001
CREATED:20260103T122713Z
LAST-MODIFIED:20260103T122713Z
UID:325-1777566600-1777586400@randerath.org
SUMMARY:Maibaum aufstellen Randerath
DESCRIPTION:
URL:https://randerath.org/event/maibaum-aufstellen-randerath/
LOCATION:Kath. Kirche Randerath
END:VEVENT
END:VCALENDAR